BEGIN:VCALENDAR
VERSION:2.0
PRODID:-//Plone.org//NONSGML plone.app.event//EN
X-WR-TIMEZONE:US/Central
BEGIN:VEVENT
SUMMARY:Book Sale
DTSTART;TZID=US/Central:20260513T100000
DTEND;TZID=US/Central:20260513T180000
DTSTAMP:20260423T203018Z
UID:6765b5d3219345f998475e3fd886dde5@saas_stack_varnish:6080
CONTACT:Cindy Lytle\, Donna Holub\, or Thadious Polasek\, schulenburgpubli
 clibrary@yahoo.com
CREATED:20260421T155116Z
DESCRIPTION:The Friends of the Schulenburg Public Library are having a boo
 k sale. The sale is during regular library hours.
LAST-MODIFIED:20260421T155209Z
LOCATION:Schulenburg Public Library
URL:https://schulenburg.ploud.net/book-sale-7
END:VEVENT
BEGIN:VTIMEZONE
TZID:US/Central
X-LIC-LOCATION:US/Central
BEGIN:DAYLIGHT
DTSTART:20260308T030000
TZNAME:CDT
TZOFFSETFROM:-0600
TZOFFSETTO:-0500
END:DAYLIGHT
END:VTIMEZONE
END:VCALENDAR
