BEGIN:VCALENDAR
VERSION:2.0
PRODID:-//Plone.org//NONSGML plone.app.event//EN
X-WR-TIMEZONE:US/Central
BEGIN:VEVENT
SUMMARY:Digital Skills Training  -  Computer Basics
DTSTART;TZID=US/Central:20260120T190000
DTEND;TZID=US/Central:20260120T200000
DTSTAMP:20260423T221552Z
UID:89567f8e3c3c43528537fc7e43222838@saas_stack_varnish:6080
CONTACT:Thadious Polasek\, 979 743 3345\, schulenburgpubliclibrary@yahoo.c
 om\, https://surveys.connectednation.org/s3/Schulenburg
CREATED:20251121T224600Z
DESCRIPTION:Digital Skills Training hosted by the Schulenburg Public Libra
 ry will be at Blinn College at Schulenburg on Tuesday\, January 20\,2026. 
  Computer basics will start at 7PM and Internet basics will start at 8pm. 
  The classes are free.  Register here:    https://surveys.connectednation.
 org/s3/Schulenburg
LAST-MODIFIED:20251121T224854Z
LOCATION:Blinn College at Schulenburg      100 Ranger Dr.        Schulenbu
 rg\, Texas
URL:https://schulenburg.ploud.net/digital-skills-training-computer-basics
END:VEVENT
BEGIN:VTIMEZONE
TZID:US/Central
X-LIC-LOCATION:US/Central
BEGIN:STANDARD
DTSTART:20251102T010000
TZNAME:CST
TZOFFSETFROM:-0500
TZOFFSETTO:-0600
END:STANDARD
END:VTIMEZONE
END:VCALENDAR
