BEGIN:VCALENDAR
VERSION:2.0
PRODID:-//Plone.org//NONSGML plone.app.event//EN
X-WR-TIMEZONE:US/Central
BEGIN:VEVENT
SUMMARY:DIGITAL SKILLS TRAINING  -  INTERNET BASICS
DTSTART;TZID=US/Central:20260120T190000
DTEND;TZID=US/Central:20260120T210000
DTSTAMP:20260423T221730Z
UID:b6fe3c456bb54acb8ce695fa450f763c@saas_stack_varnish:6080
CONTACT:Thadious Polasek\, 979 743 3345\, schulenburgpubliclibrary@yahoo.c
 om\, https://surveys.connectednation.org/s3/Schulenburg
CREATED:20251121T225538Z
DESCRIPTION:DIGITAL SKILLS TRAINING classes hosted by the Schulenburg Publ
 ic Library will be held at Blinn College at Schulenburg\, 100 Ranger Dr.\,
  Schulenburg.  Computer Basics begin at 7pm and Internet Basics begin at 8
 pm. The classes are free.  To register go to this link:  https://surveys.c
 onnectednation.org/s3/Schulenburg
LAST-MODIFIED:20251121T225623Z
LOCATION:Blinn College at Schulenburg      100 Ranger Dr.        Schulenbu
 rg\, Texas
URL:https://schulenburg.ploud.net/digital-skills-training-internet-basics
END:VEVENT
BEGIN:VTIMEZONE
TZID:US/Central
X-LIC-LOCATION:US/Central
BEGIN:STANDARD
DTSTART:20251102T010000
TZNAME:CST
TZOFFSETFROM:-0500
TZOFFSETTO:-0600
END:STANDARD
END:VTIMEZONE
END:VCALENDAR
