BEGIN:VCALENDAR
VERSION:2.0
PRODID:-//Plone.org//NONSGML plone.app.event//EN
X-WR-TIMEZONE:US/Central
BEGIN:VEVENT
SUMMARY:DIGITAL SKILLS TRAINING   -  INTERNET SAFETY
DTSTART;TZID=US/Central:20260121T200000
DTEND;TZID=US/Central:20260121T210000
DTSTAMP:20260423T221847Z
UID:7accc693b96c4d01b5ed4e5e795dcc54@saas_stack_varnish:6080
CONTACT:Thadious Polasek\, 979 743 3345\, schulenburgpubliclibrary@yahoo.c
 om\, https://surveys.connectednation.org/s3/Schulenburg
CREATED:20251121T230155Z
DESCRIPTION:Jan 21\, 2026 from 08:00 PM to 09:00 PM\nDIGITAL SKILLS TRAINI
 NG classes hosted by the Schulenburg Public Library will be held at Blinn 
 College at Schulenburg\, 100 Ranger Dr.\, Schulenburg. Email Basics begin 
 at 7pm and Internet Safety begin at 8pm. The classes are free. To register
  go to this link: https://surveys.connectednation.org/s3/Schulenburg
LAST-MODIFIED:20251121T230236Z
LOCATION:Blinn College at Schulenburg      100 Ranger Dr.        Schulenbu
 rg\, Texas
URL:https://schulenburg.ploud.net/digital-skills-training-internet-safety
END:VEVENT
BEGIN:VTIMEZONE
TZID:US/Central
X-LIC-LOCATION:US/Central
BEGIN:STANDARD
DTSTART:20251102T010000
TZNAME:CST
TZOFFSETFROM:-0500
TZOFFSETTO:-0600
END:STANDARD
END:VTIMEZONE
END:VCALENDAR
