BEGIN:VCALENDAR
VERSION:2.0
PRODID:-//Plone.org//NONSGML plone.app.event//EN
X-WR-TIMEZONE:US/Central
BEGIN:VEVENT
SUMMARY:DIGITAL SKILLS TRAINING  -  VIDEO CONFERENCING
DTSTART;TZID=US/Central:20260122T190000
DTEND;TZID=US/Central:20260122T210000
DTSTAMP:20260423T221847Z
UID:c6f08590aa5f474c8c345754febf9aa6@saas_stack_varnish:6080
CONTACT:Thadious Polasek\, 979 743 3345\, schulenburgpubliclibrary@yahoo.c
 om\, https://surveys.connectednation.org/s3/Schulenburg
CREATED:20251121T231400Z
DESCRIPTION:DIGITAL SKILLS TRAINING classes hosted by the Schulenburg Publ
 ic Library will be held at Blinn College at Schulenburg\, 100 Ranger Dr.\,
  Schulenburg. Video Conferencing begin at 7pm and Mobile Device Basics beg
 in at 8pm. The classes are free. To register go to this link: https://surv
 eys.connectednation.org/s3/Schulenburg
LAST-MODIFIED:20251121T231518Z
LOCATION:Blinn College at Schulenburg      100 Ranger Dr.        Schulenbu
 rg\, Texas
URL:https://schulenburg.ploud.net/digital-skills-training-video-conferenci
 ng
END:VEVENT
BEGIN:VTIMEZONE
TZID:US/Central
X-LIC-LOCATION:US/Central
BEGIN:STANDARD
DTSTART:20251102T010000
TZNAME:CST
TZOFFSETFROM:-0500
TZOFFSETTO:-0600
END:STANDARD
END:VTIMEZONE
END:VCALENDAR
