BEGIN:VCALENDAR
VERSION:2.0
PRODID:-//Plone.org//NONSGML plone.app.event//EN
X-WR-TIMEZONE:US/Central
BEGIN:VEVENT
SUMMARY:EASTER EGG HUNT
DTSTART;TZID=US/Central:20260328T100000
DTEND;TZID=US/Central:20260328T113000
DTSTAMP:20260423T202857Z
UID:cc0e72231e2445d9aa051881252fc61b@saas_stack_varnish:6080
CONTACT:Cindy Lytle\, Donna Holub\, or Thadious Polasek\, schulenburgpubli
 clibrary@yahoo.com
CREATED:20260323T215347Z
DESCRIPTION:COME HUG THE BUNNY\nAND JOIN IN AN \nEASTER EGG HUNT\nBYOEB (B
 ring your own Easter Basket)\nENTER TO WIN AN EASTER GIFT BASKET\nSATURDAY
 \, MARCH 28 STARTING AT 10 AM\nHOSTED BY\nFRIENDS OF THE SCHULENBURG PUBLI
 C LIBRARY
LAST-MODIFIED:20260323T215446Z
LOCATION:Schulenburg Public Library
URL:https://schulenburg.ploud.net/easter-egg-hunt
END:VEVENT
BEGIN:VTIMEZONE
TZID:US/Central
X-LIC-LOCATION:US/Central
BEGIN:DAYLIGHT
DTSTART:20260308T030000
TZNAME:CDT
TZOFFSETFROM:-0600
TZOFFSETTO:-0500
END:DAYLIGHT
END:VTIMEZONE
END:VCALENDAR
