BEGIN:VCALENDAR
VERSION:2.0
PRODID:-//Plone.org//NONSGML plone.app.event//EN
X-WR-TIMEZONE:US/Central
BEGIN:VEVENT
SUMMARY:Free Chess Lessons
DTSTART;TZID=US/Central:20251008T164500
DTEND;TZID=US/Central:20251008T174500
DTSTAMP:20260423T221831Z
UID:a6b74d502bb948c1bd63cbf8a7979676@saas_stack_varnish:6080
CREATED:20250927T145734Z
DESCRIPTION:The Schulenburg Chess Club is offering free chess lessons at t
 he Schulenburg Public Library on Wednesdays from 4:45pm to 5:45pm. Registr
 ation is required. Please call 979 743 3345 to register for the class. Sea
 ting is limited.
LAST-MODIFIED:20250927T145752Z
URL:https://schulenburg.ploud.net/free-chess-lessons-1
END:VEVENT
BEGIN:VTIMEZONE
TZID:US/Central
X-LIC-LOCATION:US/Central
BEGIN:DAYLIGHT
DTSTART:20250309T030000
TZNAME:CDT
TZOFFSETFROM:-0600
TZOFFSETTO:-0500
END:DAYLIGHT
END:VTIMEZONE
END:VCALENDAR
