BEGIN:VCALENDAR
VERSION:2.0
PRODID:-//Plone.org//NONSGML plone.app.event//EN
X-WR-TIMEZONE:US/Central
BEGIN:VEVENT
SUMMARY:Free Chess Lessons
DTSTART;TZID=US/Central:20260610T164500
DTEND;TZID=US/Central:20260610T174500
DTSTAMP:20260423T220224Z
UID:ae597b89fd3e41a2a22ca58e0f278e89@saas_stack_varnish:6080
CONTACT:Cindy Lytle\, Donna Holub\, or Thadious Polasek\, schulenburgpubli
 clibrary@yahoo.com
CREATED:20260421T161220Z
DESCRIPTION:The Schulenburg Chess Club is offering free chess lessons at t
 he Schulenburg Public Library on Wednesdays from 4:45pm to 5:45pm. Registr
 ation is required. Please call 979 743 3345 to register for the class. Sea
 ting is limited.
LAST-MODIFIED:20260421T161243Z
LOCATION:Schulenburg Public Library
URL:https://schulenburg.ploud.net/free-chess-lessons-27
END:VEVENT
BEGIN:VTIMEZONE
TZID:US/Central
X-LIC-LOCATION:US/Central
BEGIN:DAYLIGHT
DTSTART:20260308T030000
TZNAME:CDT
TZOFFSETFROM:-0600
TZOFFSETTO:-0500
END:DAYLIGHT
END:VTIMEZONE
END:VCALENDAR
