BEGIN:VCALENDAR
VERSION:2.0
PRODID:-//Plone.org//NONSGML plone.app.event//EN
X-WR-TIMEZONE:US/Central
BEGIN:VEVENT
SUMMARY:Free Chess Lessons
DTSTART;TZID=US/Central:20260211T164500
DTEND;TZID=US/Central:20260211T174500
DTSTAMP:20260423T221806Z
UID:860f03b5167747e886190965ec6474ab@saas_stack_varnish:6080
CREATED:20260209T214136Z
DESCRIPTION:Dec 17\, 2025 from 04:45 PM to 05:45 PM\nThe Schulenburg Chess
  Club is offering free chess lessons at the Schulenburg Public Library on 
 Wednesdays from 4:45pm to 5:45pm. Registration is required. Please call 97
 9 743 3345 to register for the class. Seating is limited.
LAST-MODIFIED:20260209T214201Z
URL:https://schulenburg.ploud.net/free-chess-lessons-7
END:VEVENT
BEGIN:VTIMEZONE
TZID:US/Central
X-LIC-LOCATION:US/Central
BEGIN:STANDARD
DTSTART:20251102T010000
TZNAME:CST
TZOFFSETFROM:-0500
TZOFFSETTO:-0600
END:STANDARD
END:VTIMEZONE
END:VCALENDAR
