BEGIN:VCALENDAR
VERSION:2.0
PRODID:-//Plone.org//NONSGML plone.app.event//EN
X-WR-TIMEZONE:US/Central
BEGIN:VEVENT
SUMMARY:Free Chess Lessons
DTSTART;TZID=US/Central:20260209T150000
DTEND;TZID=US/Central:20260209T160000
DTSTAMP:20260423T221807Z
UID:6729e5cb8b3b47a0a8a82ec0148c9208@saas_stack_varnish:6080
CREATED:20260209T214717Z
DESCRIPTION:The Schulenburg Chess Club is offering free chess lessons at t
 he Schulenburg Public Library on Wednesdays from 4:45pm to 5:45pm. Registr
 ation is required. Please call 979 743 3345 to register for the class. Sea
 ting is limited.
LAST-MODIFIED:20260209T214735Z
URL:https://schulenburg.ploud.net/free-chess-lessons-9
END:VEVENT
BEGIN:VTIMEZONE
TZID:US/Central
X-LIC-LOCATION:US/Central
BEGIN:STANDARD
DTSTART:20251102T010000
TZNAME:CST
TZOFFSETFROM:-0500
TZOFFSETTO:-0600
END:STANDARD
END:VTIMEZONE
END:VCALENDAR
