BEGIN:VCALENDAR
VERSION:2.0
PRODID:-//Plone.org//NONSGML plone.app.event//EN
X-WR-TIMEZONE:US/Central
BEGIN:VEVENT
SUMMARY:Hungrytown
DTSTART;TZID=US/Central:20260214T110000
DTEND;TZID=US/Central:20260214T120000
DTSTAMP:20260423T221552Z
UID:e80284f50139403685e67ea487c7603b@saas_stack_varnish:6080
CONTACT:Cindy Lytle\, Donna Holub\, or Thadious Polasek\, 979 743 3345\, s
 chulenburgpubliclibrary@yahoo.com
CREATED:20251203T184104Z
DESCRIPTION:Experience the unique musical fusion of Hungrytown\, the artis
 tic collaboration of Rebecca Hall and Ken Anderson.  With Hall's timeless 
 songwriting and Anderson's masterful instrumental arrangements\, their mus
 ic blends traditional folk with rich harmonies and intricate instrumentati
 on.  Don't miss this captivating performance\, born from their years of wo
 rldwide touring and deep devotion to the craft\, as they bring their dynam
 ic sound to life on stage.  There is no charge for the program.
LAST-MODIFIED:20251203T184204Z
LOCATION:Schulenburg Public Library
URL:https://schulenburg.ploud.net/hungrytown
END:VEVENT
BEGIN:VTIMEZONE
TZID:US/Central
X-LIC-LOCATION:US/Central
BEGIN:STANDARD
DTSTART:20251102T010000
TZNAME:CST
TZOFFSETFROM:-0500
TZOFFSETTO:-0600
END:STANDARD
END:VTIMEZONE
END:VCALENDAR
