BEGIN:VCALENDAR
VERSION:2.0
PRODID:-//Plone.org//NONSGML plone.app.event//EN
X-WR-TIMEZONE:US/Central
BEGIN:VEVENT
SUMMARY:Lego Robotics
DTSTART;TZID=US/Central:20250731T150000
DTEND;TZID=US/Central:20250731T170000
DTSTAMP:20260423T221648Z
UID:414b2f117601421581c9cd8d1da8d8fc@saas_stack_varnish:6080
CONTACT:Cindy Lytle\, Donna Holub\, and Thadious Polasek\, 979 743 3345
CREATED:20250607T142501Z
DESCRIPTION:The Schulenburg Public Library will have Lego Robotics availab
 le for construction of robots. Parents are asked to call the library to sc
 hedule an appointment time.
LAST-MODIFIED:20250607T142547Z
LOCATION:Schulenburg Public Libary
URL:https://schulenburg.ploud.net/lego-robotics-2
END:VEVENT
BEGIN:VTIMEZONE
TZID:US/Central
X-LIC-LOCATION:US/Central
BEGIN:DAYLIGHT
DTSTART:20250309T030000
TZNAME:CDT
TZOFFSETFROM:-0600
TZOFFSETTO:-0500
END:DAYLIGHT
END:VTIMEZONE
END:VCALENDAR
