BEGIN:VCALENDAR
VERSION:2.0
PRODID:-//Plone.org//NONSGML plone.app.event//EN
X-WR-TIMEZONE:US/Central
BEGIN:VEVENT
SUMMARY:Lego Robotics
DTSTART;TZID=US/Central:20260625T160000
DTEND;TZID=US/Central:20260625T170000
DTSTAMP:20260423T220102Z
UID:ddb7dae835c44a1e87a28dc33ff9c6cc@saas_stack_varnish:6080
CONTACT:Cindy Lytle\, Donna Holub\, or Thadious Polasek\, 979 743 3345\, s
 chulenburgpubliclibrary@yahoo.com
CREATED:20260421T190914Z
DESCRIPTION:The Schulenburg Public Library will have Lego Robotics availab
 le for construction of robots. Parents are asked to call the library to sc
 hedule an appointment time.
LAST-MODIFIED:20260421T191001Z
LOCATION:Schulenburg Public Library
URL:https://schulenburg.ploud.net/lego-robotics-3
END:VEVENT
BEGIN:VTIMEZONE
TZID:US/Central
X-LIC-LOCATION:US/Central
BEGIN:DAYLIGHT
DTSTART:20260308T030000
TZNAME:CDT
TZOFFSETFROM:-0600
TZOFFSETTO:-0500
END:DAYLIGHT
END:VTIMEZONE
END:VCALENDAR
