BEGIN:VCALENDAR
VERSION:2.0
PRODID:-//Plone.org//NONSGML plone.app.event//EN
X-WR-TIMEZONE:US/Central
BEGIN:VEVENT
SUMMARY:“Travel Adventure”
DTSTART;TZID=US/Central:20240712T101500
DTEND;TZID=US/Central:20240712T114500
DTSTAMP:20260424T011955Z
UID:e97025b621f14253918cf651ca478dda@saas_stack_varnish:6080
CONTACT:Cindy Lytle\, Donna Holub\, or Thadious Polasek\, 979 743 3345\, p
 olasek29@gmail.com
CREATED:20240515T151616Z
DESCRIPTION:“Travel Adventure” presented by the Stanzel Foundation.  C
 ome sail the high seas of adventure and earn your pirate name.  Join us to
  hear a pirate story and enjoy doing a fun pirate craft.
LAST-MODIFIED:20240515T151645Z
LOCATION:Schulenburg Public Library
URL:https://schulenburg.ploud.net/news-events/201ctravel-adventure201d
END:VEVENT
BEGIN:VTIMEZONE
TZID:US/Central
X-LIC-LOCATION:US/Central
BEGIN:DAYLIGHT
DTSTART:20240310T030000
TZNAME:CDT
TZOFFSETFROM:-0600
TZOFFSETTO:-0500
END:DAYLIGHT
END:VTIMEZONE
END:VCALENDAR
