BEGIN:VCALENDAR
VERSION:2.0
PRODID:-//Plone.org//NONSGML plone.app.event//EN
X-WR-TIMEZONE:US/Central
BEGIN:VEVENT
SUMMARY:Free Chess Lessons from 04:45 PM to 05:45 PM Schulenburg Public Li
 brary
DTSTART;TZID=US/Central:20240814T164500
DTEND;TZID=US/Central:20240814T174500
DTSTAMP:20260424T013500Z
UID:2fa5c4b6d1084819a4faa1f80993c91a@saas_stack_varnish:6080
CREATED:20240815T200501Z
DESCRIPTION:The Schulenburg Chess Club is offering free chess lessons at t
 he Schulenburg Public Library on Wednesdays from 4:45pm to 5:45pm. The che
 ss classes will begin on June 5. Registration is required. Please call 979
  743 3345 to register for the class. Seating is limited.
LAST-MODIFIED:20240815T200621Z
URL:https://schulenburg.ploud.net/news-events/aug-07-2024-from-04-45-pm-to
 -05-45-pm-schulenburg-public-library
END:VEVENT
BEGIN:VTIMEZONE
TZID:US/Central
X-LIC-LOCATION:US/Central
BEGIN:DAYLIGHT
DTSTART:20240310T030000
TZNAME:CDT
TZOFFSETFROM:-0600
TZOFFSETTO:-0500
END:DAYLIGHT
END:VTIMEZONE
END:VCALENDAR
