BEGIN:VCALENDAR
VERSION:2.0
PRODID:-//Plone.org//NONSGML plone.app.event//EN
X-WR-TIMEZONE:US/Central
BEGIN:VEVENT
SUMMARY:Bugs that Live in our Backyards
DTSTART;TZID=US/Central:20230623T101500
DTEND;TZID=US/Central:20230623T111500
DTSTAMP:20260424T041933Z
UID:4bef61d7ef064a41b6ca3977c4b8967a@saas_stack_varnish:6080
CONTACT:Donna Holub\, Cindy Lytle\, Thadious Polasek\, 979 743 3345\, pola
 sek29@gmail.com
CREATED:20230502T194748Z
DESCRIPTION:Stop by the library to meet Kathy Chilek and Master Gardeners 
 from Victoria\, Texas as they present a delightful play about bugs that li
 ve in our backyards.
LAST-MODIFIED:20230502T194826Z
LOCATION:Schulenburg Public Library
URL:https://schulenburg.ploud.net/news-events/bugs-that-live-in-our-backya
 rds
END:VEVENT
BEGIN:VTIMEZONE
TZID:US/Central
X-LIC-LOCATION:US/Central
BEGIN:DAYLIGHT
DTSTART:20230312T030000
TZNAME:CDT
TZOFFSETFROM:-0600
TZOFFSETTO:-0500
END:DAYLIGHT
END:VTIMEZONE
END:VCALENDAR
