BEGIN:VCALENDAR
VERSION:2.0
PRODID:-//Plone.org//NONSGML plone.app.event//EN
X-WR-TIMEZONE:US/Central
BEGIN:VEVENT
SUMMARY:Free Chess Lessons
DTSTART;TZID=US/Central:20240710T164500
DTEND;TZID=US/Central:20240710T174500
DTSTAMP:20260424T011755Z
UID:84cdd2f71f154204a7d1cf939d52f894@saas_stack_varnish:6080
CONTACT:Cindy Lytle\, Donna Holub\, or Thadious Polasek
CREATED:20240510T192720Z
DESCRIPTION:The Schulenburg Chess Club is offering free chess lessons at t
 he Schulenburg Public Library on Wednesdays from 4:45pm to 5:45pm. The che
 ss classes will begin on June 5. Registration is required. Please call 979
  743 3345 to register for the class. Seating is limited.
LAST-MODIFIED:20240510T192735Z
LOCATION:Schulenburg Public Library
URL:https://schulenburg.ploud.net/news-events/free-chess-lessons-4
END:VEVENT
BEGIN:VTIMEZONE
TZID:US/Central
X-LIC-LOCATION:US/Central
BEGIN:DAYLIGHT
DTSTART:20240310T030000
TZNAME:CDT
TZOFFSETFROM:-0600
TZOFFSETTO:-0500
END:DAYLIGHT
END:VTIMEZONE
END:VCALENDAR
