BEGIN:VCALENDAR
VERSION:2.0
PRODID:-//Plone.org//NONSGML plone.app.event//EN
X-WR-TIMEZONE:US/Central
BEGIN:VEVENT
SUMMARY:Free Chess Lessons from 04:45 PM to 05:45 PM Schulenburg Public Li
 brary
DTSTART;TZID=US/Central:20240904T164500
DTEND;TZID=US/Central:20240904T174500
DTSTAMP:20260424T013511Z
UID:e3dcdb976c114f088e496fe2b1d1086b@saas_stack_varnish:6080
CREATED:20240815T201004Z
DESCRIPTION:The Schulenburg Chess Club is offering free chess lessons at t
 he Schulenburg Public Library on Wednesdays from 4:45pm to 5:45pm.  Regist
 ration is required. Please call 979 743 3345 to register for the class. Se
 ating is limited.
LAST-MODIFIED:20240815T201119Z
URL:https://schulenburg.ploud.net/news-events/free-chess-lessons-from-04-4
 5-pm-to-05-45-pm-schulenburg-public-library-2
END:VEVENT
BEGIN:VTIMEZONE
TZID:US/Central
X-LIC-LOCATION:US/Central
BEGIN:DAYLIGHT
DTSTART:20240310T030000
TZNAME:CDT
TZOFFSETFROM:-0600
TZOFFSETTO:-0500
END:DAYLIGHT
END:VTIMEZONE
END:VCALENDAR
