BEGIN:VCALENDAR
VERSION:2.0
PRODID:-//Plone.org//NONSGML plone.app.event//EN
X-WR-TIMEZONE:US/Central
BEGIN:VEVENT
SUMMARY:Free Chess Lessons
DTSTART;TZID=US/Central:20240605T164500
DTEND;TZID=US/Central:20240605T174500
DTSTAMP:20260424T025239Z
UID:4c0664b83ffb40d0a951e5f6c4189d50@saas_stack_varnish:6080
CONTACT:Cindy Lytle\, Donna Holub\, or Thadious Polasek\, 979 743 3345
CREATED:20240510T191756Z
DESCRIPTION:The Schulenburg Chess Club is offering free chess lessons at t
 he Schulenburg Public Library on Wednesdays from 4:45pm to 5:45pm.  The ch
 ess classes will begin on June 5.   Registration is required.  Please call
  979 743 3345 to register for the class.   Seating is limited.
LAST-MODIFIED:20240510T191958Z
LOCATION:Schulenburg Public Library
URL:https://schulenburg.ploud.net/news-events/free-chess-lessons
END:VEVENT
BEGIN:VTIMEZONE
TZID:US/Central
X-LIC-LOCATION:US/Central
BEGIN:DAYLIGHT
DTSTART:20240310T030000
TZNAME:CDT
TZOFFSETFROM:-0600
TZOFFSETTO:-0500
END:DAYLIGHT
END:VTIMEZONE
END:VCALENDAR
