BEGIN:VCALENDAR
VERSION:2.0
PRODID:-//Plone.org//NONSGML plone.app.event//EN
X-WR-TIMEZONE:US/Central
BEGIN:VEVENT
SUMMARY:FREE  GED and ESL Classes
DTSTART;TZID=US/Central:20230128T090000
DTEND;TZID=US/Central:20230128T114500
DTSTAMP:20260424T025426Z
UID:26c7a769aca944ffb4dd790978c6483a@saas_stack_varnish:6080
CONTACT:Ann Gaines Rodriguez\, 830 875 0601\, arodriguez@communityaction.c
 om
CREATED:20230119T195534Z
DESCRIPTION:Community Action staff present information at the Schulenburg 
 Public Library  about their free GED\, ESL\, and workforce training.
LAST-MODIFIED:20230119T195646Z
LOCATION:Schulenburg Public Library
URL:https://schulenburg.ploud.net/news-events/free-ged-and-esl-classes
END:VEVENT
BEGIN:VTIMEZONE
TZID:US/Central
X-LIC-LOCATION:US/Central
BEGIN:STANDARD
DTSTART:20221106T010000
TZNAME:CST
TZOFFSETFROM:-0500
TZOFFSETTO:-0600
END:STANDARD
END:VTIMEZONE
END:VCALENDAR
