BEGIN:VCALENDAR
VERSION:2.0
PRODID:-//Plone.org//NONSGML plone.app.event//EN
X-WR-TIMEZONE:US/Central
BEGIN:VEVENT
SUMMARY:Friends of the Library Book Sale
DTSTART;TZID=US/Central:20220426T100000
DTEND;TZID=US/Central:20220429T180000
DTSTAMP:20260424T013806Z
UID:07b72f7c1d2c4a6fab0b12de870c8970@saas_stack_varnish:6080
CONTACT:Donna Holub\, Cindy Lytle\, or Thadious Polasek\, 9797433345\, pol
 asek29@gmail.com
CREATED:20220404T155502Z
DESCRIPTION:The Friends of the Library will have a book sale in the librar
 y meeting room on April 26\, 27\, 28\, 29\, 30 and May 2 and 4.  The book 
 sale is during normal library hours.
LAST-MODIFIED:20220404T161024Z
LOCATION:Schulenburg Public Library - 310 Simpson St.
URL:https://schulenburg.ploud.net/news-events/friends-of-the-library-book-
 sale-1
END:VEVENT
BEGIN:VTIMEZONE
TZID:US/Central
X-LIC-LOCATION:US/Central
BEGIN:DAYLIGHT
DTSTART:20220313T030000
TZNAME:CDT
TZOFFSETFROM:-0600
TZOFFSETTO:-0500
END:DAYLIGHT
END:VTIMEZONE
END:VCALENDAR
