BEGIN:VCALENDAR
VERSION:2.0
PRODID:-//Plone.org//NONSGML plone.app.event//EN
X-WR-TIMEZONE:US/Central
BEGIN:VEVENT
SUMMARY:Friends of the Library Book Sale
DTSTART;TZID=US/Central:20220502T100000
DTEND;TZID=US/Central:20220504T180000
DTSTAMP:20260424T031549Z
UID:0c349f6dd62649889ae292dfe21b00e5@saas_stack_varnish:6080
CONTACT:Donna Holub\, Cindy Lytle\, or Thadious Polasek\, 9797433345\, pol
 asek29@gmail.com
CREATED:20220404T161837Z
DESCRIPTION:The Friends of the Library will have a book sale in the librar
 y meeting room on April 26\, 27\, 28\, 29\, 30 and May 2 and 4. The book s
 ale is during normal library hours.
LAST-MODIFIED:20220404T161934Z
LOCATION:Schulenburg Public Library - 310 Simpson St.
URL:https://schulenburg.ploud.net/news-events/friends-of-the-library-book-
 sale-3
END:VEVENT
BEGIN:VTIMEZONE
TZID:US/Central
X-LIC-LOCATION:US/Central
BEGIN:DAYLIGHT
DTSTART:20220313T030000
TZNAME:CDT
TZOFFSETFROM:-0600
TZOFFSETTO:-0500
END:DAYLIGHT
END:VTIMEZONE
END:VCALENDAR
