BEGIN:VCALENDAR
VERSION:2.0
PRODID:-//Plone.org//NONSGML plone.app.event//EN
X-WR-TIMEZONE:US/Central
BEGIN:VEVENT
SUMMARY:Friends of the Schulenburg Library Book Sale
DTSTART;TZID=US/Central:20230516T100000
DTEND;TZID=US/Central:20230519T174500
DTSTAMP:20260424T025912Z
UID:e823148c9e8142cc94a7fcce80110801@saas_stack_varnish:6080
CREATED:20230421T194948Z
DESCRIPTION:Come purchase great books\, movies and much more at a great pr
 ice and help support the library.
LAST-MODIFIED:20230421T195026Z
URL:https://schulenburg.ploud.net/news-events/friends-of-the-schulenburg-l
 ibrary-book-sale-1
END:VEVENT
BEGIN:VTIMEZONE
TZID:US/Central
X-LIC-LOCATION:US/Central
BEGIN:DAYLIGHT
DTSTART:20230312T030000
TZNAME:CDT
TZOFFSETFROM:-0600
TZOFFSETTO:-0500
END:DAYLIGHT
END:VTIMEZONE
END:VCALENDAR
