BEGIN:VCALENDAR
VERSION:2.0
PRODID:-//Plone.org//NONSGML plone.app.event//EN
X-WR-TIMEZONE:US/Central
BEGIN:VEVENT
SUMMARY:Friends of the Schulenburg Library Book Sale
DTSTART;TZID=US/Central:20230520T090000
DTEND;TZID=US/Central:20230520T114500
DTSTAMP:20260424T030137Z
UID:1c999a511b4042f78a1613b4a44da701@saas_stack_varnish:6080
CREATED:20230421T195243Z
DESCRIPTION:Come purchase great books\, movies and much more at a great pr
 ice and help support the library.
LAST-MODIFIED:20230421T195307Z
URL:https://schulenburg.ploud.net/news-events/friends-of-the-schulenburg-l
 ibrary-book-sale-2
END:VEVENT
BEGIN:VTIMEZONE
TZID:US/Central
X-LIC-LOCATION:US/Central
BEGIN:DAYLIGHT
DTSTART:20230312T030000
TZNAME:CDT
TZOFFSETFROM:-0600
TZOFFSETTO:-0500
END:DAYLIGHT
END:VTIMEZONE
END:VCALENDAR
