BEGIN:VCALENDAR
VERSION:2.0
PRODID:-//Plone.org//NONSGML plone.app.event//EN
X-WR-TIMEZONE:US/Central
BEGIN:VEVENT
SUMMARY:Friends of the Schulenburg Library Book Sale
DTSTART;TZID=US/Central:20230515T100000
DTEND;TZID=US/Central:20230515T194500
DTSTAMP:20260424T025905Z
UID:f501b75018d349c49059fbc29fb76e3e@saas_stack_varnish:6080
CONTACT:Donna Holub\, Cindy Lytle\, Thadious Polasek\, polasek29@gmail.com
CREATED:20230421T194412Z
DESCRIPTION:Come purchase great books\, movies and much more at a great pr
 ice and help support the library.
LAST-MODIFIED:20230421T194622Z
LOCATION:Library meeting room.
URL:https://schulenburg.ploud.net/news-events/friends-of-the-schulenburg-l
 ibrary-book-sale
END:VEVENT
BEGIN:VTIMEZONE
TZID:US/Central
X-LIC-LOCATION:US/Central
BEGIN:DAYLIGHT
DTSTART:20230312T030000
TZNAME:CDT
TZOFFSETFROM:-0600
TZOFFSETTO:-0500
END:DAYLIGHT
END:VTIMEZONE
END:VCALENDAR
