BEGIN:VCALENDAR
VERSION:2.0
PRODID:-//Plone.org//NONSGML plone.app.event//EN
X-WR-TIMEZONE:US/Central
BEGIN:VEVENT
SUMMARY:Fun with Fables
DTSTART;TZID=US/Central:20240726T101500
DTEND;TZID=US/Central:20240726T114500
DTSTAMP:20260424T025214Z
UID:efbb1a91012245cf888abf473409ae11@saas_stack_varnish:6080
CONTACT:Cindy Lytle\, Donna Holub\, or Thadious Polasek\, 979 743 3345\, p
 olasek29@gmail.com
CREATED:20240515T152124Z
DESCRIPTION:Join Parents As Teachers for story time at the Schulenburg Pub
 lic Library.  Learn all about the difference between a Fable and a Fairyta
 le.   Hear\, see & help compare two different versions of the classic fabl
 e\, The Little Red Hen.  Stay after story time for arts -crafts & a fable 
 themed snack!
LAST-MODIFIED:20240722T170203Z
LOCATION:Schulenburg Public Library
URL:https://schulenburg.ploud.net/news-events/it2019s-not-a-box
END:VEVENT
BEGIN:VTIMEZONE
TZID:US/Central
X-LIC-LOCATION:US/Central
BEGIN:DAYLIGHT
DTSTART:20240310T030000
TZNAME:CDT
TZOFFSETFROM:-0600
TZOFFSETTO:-0500
END:DAYLIGHT
END:VTIMEZONE
END:VCALENDAR
