BEGIN:VCALENDAR
VERSION:2.0
PRODID:-//Plone.org//NONSGML plone.app.event//EN
X-WR-TIMEZONE:US/Central
BEGIN:VEVENT
SUMMARY:Kindness
DTSTART;TZID=US/Central:20240719T101500
DTEND;TZID=US/Central:20240719T114500
DTSTAMP:20260424T011233Z
UID:71b6246962a744e982514c82eeff8cdc@saas_stack_varnish:6080
CONTACT:Cindy Lytle\, Donna Holub\, or Thadious Polasek\, 979 743 3345\, p
 olasek29@gmail.com
CREATED:20240515T151840Z
DESCRIPTION:Kindness:  \nEveryone wants to be treated with kindness. Come 
 learn how a simple smile can change someone’s whole day.  Presented by t
 he Turtle Wing Foundation.   Story and craft.
LAST-MODIFIED:20240515T172716Z
LOCATION:Schulenburg Public Library
URL:https://schulenburg.ploud.net/news-events/kindness
END:VEVENT
BEGIN:VTIMEZONE
TZID:US/Central
X-LIC-LOCATION:US/Central
BEGIN:DAYLIGHT
DTSTART:20240310T030000
TZNAME:CDT
TZOFFSETFROM:-0600
TZOFFSETTO:-0500
END:DAYLIGHT
END:VTIMEZONE
END:VCALENDAR
