BEGIN:VCALENDAR
VERSION:2.0
PRODID:-//Plone.org//NONSGML plone.app.event//EN
X-WR-TIMEZONE:US/Central
BEGIN:VEVENT
SUMMARY:Lego Robotics
DTSTART;TZID=US/Central:20230622T150000
DTEND;TZID=US/Central:20230622T170000
DTSTAMP:20260424T042334Z
UID:fa5ee6f7816c4e829b20b25557461aa0@saas_stack_varnish:6080
CONTACT:Donna Holub\, Cindy Lytle\, Thadious Polasek\, 9797433345\, polase
 k29@gmail.com
CREATED:20230503T205938Z
DESCRIPTION:Lego Robotics will be available on Thursdays from 3 to 5 p.m. 
 starting June 15\, 2023.   Parents are asked to call the library to schedu
 le a time.
LAST-MODIFIED:20230523T213209Z
LOCATION:Schulenburg Public Library
URL:https://schulenburg.ploud.net/news-events/lego-robotics-13
END:VEVENT
BEGIN:VTIMEZONE
TZID:US/Central
X-LIC-LOCATION:US/Central
BEGIN:DAYLIGHT
DTSTART:20230312T030000
TZNAME:CDT
TZOFFSETFROM:-0600
TZOFFSETTO:-0500
END:DAYLIGHT
END:VTIMEZONE
END:VCALENDAR
