BEGIN:VCALENDAR
VERSION:2.0
PRODID:-//Plone.org//NONSGML plone.app.event//EN
X-WR-TIMEZONE:US/Central
BEGIN:VEVENT
SUMMARY:Lego Robotics
DTSTART;TZID=US/Central:20240718T150000
DTEND;TZID=US/Central:20240718T173000
DTSTAMP:20260424T012439Z
UID:68d6cb9db37c4c83b73247c394d84a29@saas_stack_varnish:6080
CONTACT:Cindy Lytle\, Donna Holub\, or Thadious Polasek\, 979 743 3345\, p
 olasek29@gmail.com
CREATED:20240410T172942Z
DESCRIPTION:Lego Robotics will be available on Thursdays starting June 6\,
  2024. Call the library at (979) 743-3345 to schedule an appointment. Limi
 ted number per appointment on Thursdays.
LAST-MODIFIED:20240515T172639Z
LOCATION:Schulenburg Public Library
URL:https://schulenburg.ploud.net/news-events/lego-robotics-24
END:VEVENT
BEGIN:VTIMEZONE
TZID:US/Central
X-LIC-LOCATION:US/Central
BEGIN:DAYLIGHT
DTSTART:20240310T030000
TZNAME:CDT
TZOFFSETFROM:-0600
TZOFFSETTO:-0500
END:DAYLIGHT
END:VTIMEZONE
END:VCALENDAR
