BEGIN:VCALENDAR
VERSION:2.0
PRODID:-//Plone.org//NONSGML plone.app.event//EN
X-WR-TIMEZONE:US/Central
BEGIN:VEVENT
SUMMARY:Lego Robotics
DTSTART;TZID=US/Central:20220721T150000
DTEND;TZID=US/Central:20220721T170000
DTSTAMP:20260424T025239Z
UID:95e67149d9fc4b899abc566f54f6f3b9@saas_stack_varnish:6080
CONTACT:Donna Holub\, Cindy Lytle\, or Thadious Polasek\, 9797433345\, pol
 asek29@gmail.com
CREATED:20220512T182353Z
DESCRIPTION:The Schulenburg Public Library will have Lego Robotics availab
 le for construction of robots. Parents are asked to call the library to sc
 hedule an appointment time.
LAST-MODIFIED:20220512T182409Z
LOCATION:Schulenburg Public Library - 310 Simpson St.
URL:https://schulenburg.ploud.net/news-events/lego-robotics-8
END:VEVENT
BEGIN:VTIMEZONE
TZID:US/Central
X-LIC-LOCATION:US/Central
BEGIN:DAYLIGHT
DTSTART:20220313T030000
TZNAME:CDT
TZOFFSETFROM:-0600
TZOFFSETTO:-0500
END:DAYLIGHT
END:VTIMEZONE
END:VCALENDAR
