BEGIN:VCALENDAR
VERSION:2.0
PRODID:-//Plone.org//NONSGML plone.app.event//EN
X-WR-TIMEZONE:US/Central
BEGIN:VEVENT
SUMMARY:Lego Robotics
DTSTART;TZID=US/Central:20210603T150000
DTEND;TZID=US/Central:20210603T170000
DTSTAMP:20260424T011457Z
UID:bba56e78919b4cd6b5d0639fce9938e7@saas_stack_varnish:6080
CONTACT:Cindy Lytle\, Donna Holub\, or Thadious Polasek\, 9797433345\, pol
 asek29@gmail.com
CREATED:20210526T204529Z
DESCRIPTION:Lego Robotics \n\nWhen: During the months of June\, July\, and
  August. Call the library at (979) 743-3345 to schedule an appointment. 1 
 Family per appointment.
LAST-MODIFIED:20210527T215304Z
LOCATION:Schulenburg Public Library
URL:https://schulenburg.ploud.net/news-events/lego-robotics
END:VEVENT
BEGIN:VTIMEZONE
TZID:US/Central
X-LIC-LOCATION:US/Central
BEGIN:DAYLIGHT
DTSTART:20210314T030000
TZNAME:CDT
TZOFFSETFROM:-0600
TZOFFSETTO:-0500
END:DAYLIGHT
END:VTIMEZONE
END:VCALENDAR
