BEGIN:VCALENDAR
VERSION:2.0
PRODID:-//Plone.org//NONSGML plone.app.event//EN
X-WR-TIMEZONE:US/Central
BEGIN:VEVENT
SUMMARY:“Libraries Rock”
DTSTART;TZID=US/Central:20180601T103000
DTEND;TZID=US/Central:20180720T103000
DTSTAMP:20260424T012447Z
UID:fbc74e797be14afb8502e3c43aff244f@saas_stack_varnish:6080
CONTACT:Donna Holub\, Cindy Lytle\, and Thadious Polasek\, 979 743 3345\, 
 Polasek29@gmail.com
CREATED:20180508T191552Z
DESCRIPTION:Readers of all ages will explore all things scientific this su
 mmer as the Schulenburg Public Library presents “LIBRARIES ROCK” durin
 g their Summer Library Program.  Activities will include a marionette show
  entitled\, “Sleeping Beauty and the Handsome Prince”\, reptiles\, liv
 e animals\, puppet shows and much more.  The purpose of this program is to
  encourage the youth of our community to check out and read books from the
  Schulenburg Public Library.   The 2018 Summer Reading program is for the 
 following age groups\,  Read-to-Me (infant to 4 years old) -  A Parent or 
 guardian  is required to read 15 picture books to them.   Age 10-12 - The 
 child is required to read 10 chapter books.
LAST-MODIFIED:20250403T011232Z
LOCATION:Schulenburg Public Library
URL:https://schulenburg.ploud.net/news-events/lib-cal/201clibraries-rock20
 1d
END:VEVENT
BEGIN:VTIMEZONE
TZID:US/Central
X-LIC-LOCATION:US/Central
BEGIN:DAYLIGHT
DTSTART:20180311T030000
TZNAME:CDT
TZOFFSETFROM:-0600
TZOFFSETTO:-0500
END:DAYLIGHT
END:VTIMEZONE
END:VCALENDAR
