BEGIN:VCALENDAR
VERSION:2.0
PRODID:-//Plone.org//NONSGML plone.app.event//EN
X-WR-TIMEZONE:US/Central
BEGIN:VEVENT
SUMMARY:“Reading Magic Show”
DTSTART;TZID=US/Central:20190622T100000
DTEND;TZID=US/Central:20190622T110000
DTSTAMP:20260424T011843Z
UID:0e1c8c449c894cd1b80a33a3630dcfac@saas_stack_varnish:6080
CONTACT:Donna Holub\, Cindy Lytle\, Thadious Polasek\, 979 743 3345\, pola
 sek29@gmail.com
CREATED:20190521T144822Z
DESCRIPTION:Everyone is invited to come meet John O’Bryant-Magician from
  San Antonio\, Texas.  At 10AM\, he will have an hour performance\, “Rea
 ding Magic Show”.
LAST-MODIFIED:20250403T011232Z
LOCATION:Schulenburg Public Library
URL:https://schulenburg.ploud.net/news-events/lib-cal/201creading-magic-sh
 ow201d
END:VEVENT
BEGIN:VTIMEZONE
TZID:US/Central
X-LIC-LOCATION:US/Central
BEGIN:DAYLIGHT
DTSTART:20190310T030000
TZNAME:CDT
TZOFFSETFROM:-0600
TZOFFSETTO:-0500
END:DAYLIGHT
END:VTIMEZONE
END:VCALENDAR
