BEGIN:VCALENDAR
VERSION:2.0
PRODID:-//Plone.org//NONSGML plone.app.event//EN
X-WR-TIMEZONE:US/Central
BEGIN:VEVENT
SUMMARY:“The World of Bees”
DTSTART;TZID=US/Central:20180612T103000
DTEND;TZID=US/Central:20180612T113000
DTSTAMP:20260424T013138Z
UID:010875cf2f054d3ba8cbbb4aeff59410@saas_stack_varnish:6080
CONTACT:Donna Holub\, Cindy Lytle\, and Thadious Polasek\, 979 743 3345\, 
 Polasek29@gmail.com
CREATED:20180518T152712Z
DESCRIPTION:Buzz on by the library to meet Michael Kelling from Central Te
 xas Bee Association\, Brenham\, Texas and see “The World of Bees” with
  LIVE BEES in the library at 10:30AM.
LAST-MODIFIED:20250403T011232Z
LOCATION:Schulenburg Public Library
URL:https://schulenburg.ploud.net/news-events/lib-cal/201cthe-world-of-bee
 s201d
END:VEVENT
BEGIN:VTIMEZONE
TZID:US/Central
X-LIC-LOCATION:US/Central
BEGIN:DAYLIGHT
DTSTART:20180311T030000
TZNAME:CDT
TZOFFSETFROM:-0600
TZOFFSETTO:-0500
END:DAYLIGHT
END:VTIMEZONE
END:VCALENDAR
