BEGIN:VCALENDAR
VERSION:2.0
PRODID:-//Plone.org//NONSGML plone.app.event//EN
X-WR-TIMEZONE:US/Central
BEGIN:VEVENT
SUMMARY:4th Annual Christmas Open House  Llama Drama
DTSTART;TZID=US/Central:20191214T090000
DTEND;TZID=US/Central:20191214T114500
DTSTAMP:20260424T013138Z
UID:61d56c06d4394e61a42c0c3934e2ceaf@saas_stack_varnish:6080
CONTACT:Donna Holub\, Cindy Lytle\, Thadious Polasek\, 9797433345\, polase
 k29@gmail.com
CREATED:20191102T155039Z
DESCRIPTION:Come meet Beverly Johnson from  DBJ Ranch\, Giddings Texas and
  her Llamas.  Stay for a visit with Santa and Mrs. Claus.  Enjoy carolers.
   There will be a "Christmas Boutique" offering seasonal art\, crafts and 
 food items.   Sponsored by Friends of the Library.
LAST-MODIFIED:20250403T011232Z
LOCATION:Schulenburg Public Library
URL:https://schulenburg.ploud.net/news-events/lib-cal/4th-annual-christmas
 -open-house-llama-dram
END:VEVENT
BEGIN:VTIMEZONE
TZID:US/Central
X-LIC-LOCATION:US/Central
BEGIN:STANDARD
DTSTART:20191103T010000
TZNAME:CST
TZOFFSETFROM:-0500
TZOFFSETTO:-0600
END:STANDARD
END:VTIMEZONE
END:VCALENDAR
