BEGIN:VCALENDAR
VERSION:2.0
PRODID:-//Plone.org//NONSGML plone.app.event//EN
X-WR-TIMEZONE:US/Central
BEGIN:VEVENT
SUMMARY:Car Seat Fitting Station Canceled
DTSTART;TZID=US/Central:20200427T043000
DTEND;TZID=US/Central:20200427T193000
DTSTAMP:20260424T013126Z
UID:881e6098a84d4614a34a66ab371b89ec@saas_stack_varnish:6080
CREATED:20200318T180916Z
LAST-MODIFIED:20250403T011232Z
URL:https://schulenburg.ploud.net/news-events/lib-cal/car-seat-fitting-sta
 tion-canceled
END:VEVENT
BEGIN:VTIMEZONE
TZID:US/Central
X-LIC-LOCATION:US/Central
BEGIN:DAYLIGHT
DTSTART:20200308T030000
TZNAME:CDT
TZOFFSETFROM:-0600
TZOFFSETTO:-0500
END:DAYLIGHT
END:VTIMEZONE
END:VCALENDAR
