BEGIN:VCALENDAR
VERSION:2.0
PRODID:-//Plone.org//NONSGML plone.app.event//EN
X-WR-TIMEZONE:US/Central
BEGIN:VEVENT
SUMMARY:Friends of the Library present:  Christmas Open House "Llamas at t
 he Library"
DTSTART;TZID=US/Central:20171209T090000
DTEND;TZID=US/Central:20171209T114500
DTSTAMP:20260424T013230Z
UID:dcd4debe49d341ec965ec9ce5565776f@saas_stack_varnish:6080
CONTACT:Donna Holub\, Cindy Lytle\, and Thadious Polasek\, 979 743 3345\, 
 polasek29@gmail.com
CREATED:20171107T213415Z
DESCRIPTION:Come meet Beverly Johnson from DBJ Ranch\, Giddings\, Texas an
 d her llamas Smiling Jack\, Wild and Sweet.  Beverly Johnson will present 
 a Christmas Program for all ages.
LAST-MODIFIED:20250403T011232Z
LOCATION:Schulenburg Public Library
URL:https://schulenburg.ploud.net/news-events/lib-cal/christmas-open-house
 -llamas-at-the-library
END:VEVENT
BEGIN:VTIMEZONE
TZID:US/Central
X-LIC-LOCATION:US/Central
BEGIN:STANDARD
DTSTART:20171105T010000
TZNAME:CST
TZOFFSETFROM:-0500
TZOFFSETTO:-0600
END:STANDARD
END:VTIMEZONE
END:VCALENDAR
