BEGIN:VCALENDAR
VERSION:2.0
PRODID:-//Plone.org//NONSGML plone.app.event//EN
X-WR-TIMEZONE:US/Central
BEGIN:VEVENT
SUMMARY:Circus Chicken Dog
DTSTART;TZID=US/Central:20180622T103000
DTEND;TZID=US/Central:20180622T113000
DTSTAMP:20260424T012648Z
UID:4121f9607e6842da876a0e4521df5160@saas_stack_varnish:6080
CONTACT:Donna Holub\, Cindy Lytle\, and Thadious Polasek\, 979 743 3345\, 
 Polasek29@gmail.com
CREATED:20180518T154215Z
DESCRIPTION:Circus Chicken Dog from Austin\, Texas presents six rescued do
 gs\, a talking and singing scarlet Macaw\, juggling\, clowning\, and much 
 more. Come join the fun at 10:30 AM.
LAST-MODIFIED:20250403T011232Z
LOCATION:Schulenburg Public Library
URL:https://schulenburg.ploud.net/news-events/lib-cal/copy_of_circus-chick
 en-dog
END:VEVENT
BEGIN:VTIMEZONE
TZID:US/Central
X-LIC-LOCATION:US/Central
BEGIN:DAYLIGHT
DTSTART:20180311T030000
TZNAME:CDT
TZOFFSETFROM:-0600
TZOFFSETTO:-0500
END:DAYLIGHT
END:VTIMEZONE
END:VCALENDAR
