BEGIN:VCALENDAR
VERSION:2.0
PRODID:-//Plone.org//NONSGML plone.app.event//EN
X-WR-TIMEZONE:US/Central
BEGIN:VEVENT
SUMMARY:Cowboy Music\, Roping and Reading
DTSTART;TZID=US/Central:20180601T103000
DTEND;TZID=US/Central:20180601T113000
DTSTAMP:20260424T012811Z
UID:4b182f79f8d648b7806cce4a0c2b1c28@saas_stack_varnish:6080
CONTACT:Donna Holub\, Cindy Lytle\, and Thadious Polasek\, 979 743 3345\, 
 polasek29@gmail.com
CREATED:20180516T164851Z
DESCRIPTION:Cowboy Music\, Roping and Reading featuring Mike Stroup\, Bad 
 Bob and Roper Bob presented by F-A-M-E.
LAST-MODIFIED:20250403T011232Z
LOCATION:Schulenburg Public Library
URL:https://schulenburg.ploud.net/news-events/lib-cal/cowboy-music-roping-
 and-reading
END:VEVENT
BEGIN:VTIMEZONE
TZID:US/Central
X-LIC-LOCATION:US/Central
BEGIN:DAYLIGHT
DTSTART:20180311T030000
TZNAME:CDT
TZOFFSETFROM:-0600
TZOFFSETTO:-0500
END:DAYLIGHT
END:VTIMEZONE
END:VCALENDAR
