BEGIN:VCALENDAR
VERSION:2.0
PRODID:-//Plone.org//NONSGML plone.app.event//EN
X-WR-TIMEZONE:US/Central
BEGIN:VEVENT
SUMMARY:Dell Children's Medical Center and Ascension Texas Medical Respons
 e Unit
DTSTART;TZID=US/Central:20230422T100000
DTEND;TZID=US/Central:20230422T114500
DTSTAMP:20260424T030030Z
UID:44e4cfb1ecef4ba4a80281cf50629414@saas_stack_varnish:6080
CONTACT:512-324-4636\, medicalresponseunit@ascension.org
CREATED:20230420T163726Z
DESCRIPTION:The Dell Children's Medical Center and Ascension Texas Medical
  Response Unit will be at the Schulenburg Public Library to present inform
 ation on evidence-based health care decisions.
LAST-MODIFIED:20250403T011232Z
LOCATION:Library meeting room.
URL:https://schulenburg.ploud.net/news-events/lib-cal/dell-childrens-medic
 al-center-and-ascension-texas-medical-response-unit
END:VEVENT
BEGIN:VTIMEZONE
TZID:US/Central
X-LIC-LOCATION:US/Central
BEGIN:DAYLIGHT
DTSTART:20230312T030000
TZNAME:CDT
TZOFFSETFROM:-0600
TZOFFSETTO:-0500
END:DAYLIGHT
END:VTIMEZONE
END:VCALENDAR
