BEGIN:VCALENDAR
VERSION:2.0
PRODID:-//Plone.org//NONSGML plone.app.event//EN
X-WR-TIMEZONE:US/Central
BEGIN:VEVENT
SUMMARY:Free Chess Lessons from 04:45 PM to 05:45 PM Schulenburg Public Li
 brary
DTSTART;TZID=US/Central:20250326T164500
DTEND;TZID=US/Central:20250326T174500
DTSTAMP:20260423T235113Z
UID:7e12a8979c624682922cd525b45c7b56@saas_stack_varnish:6080
CREATED:20250228T215823Z
DESCRIPTION:The Schulenburg Chess Club is offering free chess lessons at t
 he Schulenburg Public Library on Wednesdays from 4:45pm to 5:45pm. Registr
 ation is required. Please call 979 743 3345 to register for the class. Sea
 ting is limited.
LAST-MODIFIED:20250403T011232Z
URL:https://schulenburg.ploud.net/news-events/lib-cal/free-chess-lessons-f
 rom-04-45-pm-to-05-45-pm-schulenburg-public-library-6
END:VEVENT
BEGIN:VTIMEZONE
TZID:US/Central
X-LIC-LOCATION:US/Central
BEGIN:DAYLIGHT
DTSTART:20250309T030000
TZNAME:CDT
TZOFFSETFROM:-0600
TZOFFSETTO:-0500
END:DAYLIGHT
END:VTIMEZONE
END:VCALENDAR
