BEGIN:VCALENDAR
VERSION:2.0
PRODID:-//Plone.org//NONSGML plone.app.event//EN
X-WR-TIMEZONE:US/Central
BEGIN:VEVENT
SUMMARY:GED Information Session
DTSTART;TZID=US/Central:20230401T090000
DTEND;TZID=US/Central:20230401T113000
DTSTAMP:20260424T025312Z
UID:7cdcc89b08314d5882d2a13cbe7f79b4@saas_stack_varnish:6080
CONTACT:Thadious Polasek\, 979 743 3345\, polasek29@gmail.com
CREATED:20230327T154738Z
DESCRIPTION:Community Action of Central Texas will be hosting a GED inform
 ation session at the Schulenburg Public Library\, Saturday\, April 1 from 
 9 to 11 30.
LAST-MODIFIED:20250403T011232Z
LOCATION:Library meeting room.
URL:https://schulenburg.ploud.net/news-events/lib-cal/ged-information-sess
 ion
END:VEVENT
BEGIN:VTIMEZONE
TZID:US/Central
X-LIC-LOCATION:US/Central
BEGIN:DAYLIGHT
DTSTART:20230312T030000
TZNAME:CDT
TZOFFSETFROM:-0600
TZOFFSETTO:-0500
END:DAYLIGHT
END:VTIMEZONE
END:VCALENDAR
