BEGIN:VCALENDAR
VERSION:2.0
PRODID:-//Plone.org//NONSGML plone.app.event//EN
X-WR-TIMEZONE:US/Central
BEGIN:VEVENT
SUMMARY:HOMEOWNER ASSISTANCE PROGRAM
DTSTART;TZID=US/Central:20190514T130000
DTEND;TZID=US/Central:20190514T160000
DTSTAMP:20260424T011627Z
UID:eeafc9cec9ab4ba7a1bedb2563c21c38@saas_stack_varnish:6080
CONTACT:Thadious Polasek\, 9797433345\, polasek29@gmail.com
CREATED:20190510T193356Z
DESCRIPTION:The HAP rehabilitates and reconstructs eligible homes damaged 
 by Hurricane Harvey.\n•         If you own a single family home that was
  damaged by Hurricane Harvey you may be eligible for HAP funds. Homes must
  have been owned and occupied at the time of the disaster.\n•         Th
 ere is no minimum damage amount\, but the home must have damage from Harve
 y to be eligible for assistance.\n•         There is no cost to apply or
  to receive assistance. Homeowners will sign a 3-year unsecured\, forgivab
 le promissory note.\n•         If a home has less than $65\,000 of damag
 e it may qualify for rehabilitation\; if more than $65\,000\, reconstructi
 on.\n•         Awards are made on a first eligible\, first served basis.
 \n•         Homeowners must relocate themselves and their belongings dur
 ing the 90-120 day construction period.
LAST-MODIFIED:20250403T011232Z
LOCATION:Schulenburg  Public Library Meeting Room
URL:https://schulenburg.ploud.net/news-events/lib-cal/homeowner-assistance
 -program
END:VEVENT
BEGIN:VTIMEZONE
TZID:US/Central
X-LIC-LOCATION:US/Central
BEGIN:DAYLIGHT
DTSTART:20190310T030000
TZNAME:CDT
TZOFFSETFROM:-0600
TZOFFSETTO:-0500
END:DAYLIGHT
END:VTIMEZONE
END:VCALENDAR
