BEGIN:VCALENDAR
VERSION:2.0
PRODID:-//Plone.org//NONSGML plone.app.event//EN
X-WR-TIMEZONE:US/Central
BEGIN:VEVENT
SUMMARY:How Does Your Garden Grow
DTSTART;TZID=US/Central:20170624T100000
DTEND;TZID=US/Central:20170624T110000
DTSTAMP:20260423T234645Z
UID:9b76856d657a49ab928b82ced191d9f3@saas_stack_varnish:6080
CONTACT:Donna Holub\, Cindy Lytle\, and Thadious Polasek\, polasek29@gmail
 .com
CREATED:20170519T164622Z
DESCRIPTION:Stories and activities on gardening.
LAST-MODIFIED:20250403T011232Z
LOCATION:Schulenburg Public Library
URL:https://schulenburg.ploud.net/news-events/lib-cal/how-does-your-garden
 -grow
END:VEVENT
BEGIN:VTIMEZONE
TZID:US/Central
X-LIC-LOCATION:US/Central
BEGIN:DAYLIGHT
DTSTART:20170312T030000
TZNAME:CDT
TZOFFSETFROM:-0600
TZOFFSETTO:-0500
END:DAYLIGHT
END:VTIMEZONE
END:VCALENDAR
