BEGIN:VCALENDAR
VERSION:2.0
PRODID:-//Plone.org//NONSGML plone.app.event//EN
X-WR-TIMEZONE:US/Central
BEGIN:VEVENT
SUMMARY:Let’s Eat the Rainbow
DTSTART;TZID=US/Central:20180620T103000
DTEND;TZID=US/Central:20180620T113000
DTSTAMP:20260424T013051Z
UID:792270ef06284dcdb5669884bf215151@saas_stack_varnish:6080
CONTACT:Donna Holub\, Cindy Lytle\, and Thadious Polasek\, Polasek29@gmail
 .com
CREATED:20180518T153819Z
DESCRIPTION:“Let’s Eat the Rainbow\,” a puppet show presented by Art
  Jam and F-A-M-E at 10:30 AM.
LAST-MODIFIED:20250403T011232Z
LOCATION:Schulenburg Public Library
URL:https://schulenburg.ploud.net/news-events/lib-cal/let2019s-eat-the-rai
 nbow
END:VEVENT
BEGIN:VTIMEZONE
TZID:US/Central
X-LIC-LOCATION:US/Central
BEGIN:DAYLIGHT
DTSTART:20180311T030000
TZNAME:CDT
TZOFFSETFROM:-0600
TZOFFSETTO:-0500
END:DAYLIGHT
END:VTIMEZONE
END:VCALENDAR
