BEGIN:VCALENDAR
VERSION:2.0
PRODID:-//Plone.org//NONSGML plone.app.event//EN
X-WR-TIMEZONE:US/Central
BEGIN:VEVENT
SUMMARY:Lunch N' Learn: Coping with Alzheimer's
DTSTART;TZID=US/Central:20190830T113000
DTEND;TZID=US/Central:20190830T130000
DTSTAMP:20260424T012837Z
UID:3ffe0426b6a44245804e6c7cf2a005a8@saas_stack_varnish:6080
CONTACT:Shannon Johnson-Quaife\, 512 214 0420 ext 11\, SJohnsonQuaife@TXAl
 z.org
CREATED:20190822T161846Z
DESCRIPTION:Shannon Johnson-Quaife\, Ph.D will explain methods for gaining
  support\, adapting to your role as your loved one’s illness progresses\
 , managing common caregiving challenges\, and practicing good self-care.  
 Registration is required.
LAST-MODIFIED:20250403T011232Z
LOCATION:Schulenburg  Public Library Meeting Room
URL:https://schulenburg.ploud.net/news-events/lib-cal/lunch-n-learn-coping
 -with-alzheimers
END:VEVENT
BEGIN:VTIMEZONE
TZID:US/Central
X-LIC-LOCATION:US/Central
BEGIN:DAYLIGHT
DTSTART:20190310T030000
TZNAME:CDT
TZOFFSETFROM:-0600
TZOFFSETTO:-0500
END:DAYLIGHT
END:VTIMEZONE
END:VCALENDAR
