BEGIN:VCALENDAR
VERSION:2.0
PRODID:-//Plone.org//NONSGML plone.app.event//EN
X-WR-TIMEZONE:US/Central
BEGIN:VEVENT
SUMMARY:Magic In The Library
DTSTART;TZID=US/Central:20170715T100000
DTEND;TZID=US/Central:20170715T110000
DTSTAMP:20260424T011542Z
UID:9c3d7d5bf71042039e095ceac1fb8c96@saas_stack_varnish:6080
CONTACT:Donna Holub\, Cindy Lytle\, and Thadious Polasek\, 979  743  3345\
 , polasek29@gmail.com
CREATED:20170519T191717Z
DESCRIPTION:A magician from San Antonio\, Texas will present a magical per
 formance.
LAST-MODIFIED:20250403T011232Z
LOCATION:Schulenburg Public Library
URL:https://schulenburg.ploud.net/news-events/lib-cal/magic-show
END:VEVENT
BEGIN:VTIMEZONE
TZID:US/Central
X-LIC-LOCATION:US/Central
BEGIN:DAYLIGHT
DTSTART:20170312T030000
TZNAME:CDT
TZOFFSETFROM:-0600
TZOFFSETTO:-0500
END:DAYLIGHT
END:VTIMEZONE
END:VCALENDAR
