BEGIN:VCALENDAR
VERSION:2.0
PRODID:-//Plone.org//NONSGML plone.app.event//EN
X-WR-TIMEZONE:US/Central
BEGIN:VEVENT
SUMMARY:Mini-Horse Helpers
DTSTART;TZID=US/Central:20180614T103000
DTEND;TZID=US/Central:20180614T113000
DTSTAMP:20260424T011858Z
UID:22022698abe54972aadf2a04a0dbf43b@saas_stack_varnish:6080
CONTACT:Donna Holub\, Cindy Lytle\, and Thadious Polasek\, 979 743 3345\, 
 Polasek29@gmail.com
CREATED:20180518T153334Z
DESCRIPTION:Come meet “Izzie\,” a miniature horse\, of Mini-Horse Help
 ers from La Grange\, Texas at 10:30AM.
LAST-MODIFIED:20250403T011232Z
LOCATION:Schulenburg Public Library
URL:https://schulenburg.ploud.net/news-events/lib-cal/mini-horse-helpers-1
END:VEVENT
BEGIN:VTIMEZONE
TZID:US/Central
X-LIC-LOCATION:US/Central
BEGIN:DAYLIGHT
DTSTART:20180311T030000
TZNAME:CDT
TZOFFSETFROM:-0600
TZOFFSETTO:-0500
END:DAYLIGHT
END:VTIMEZONE
END:VCALENDAR
