BEGIN:VCALENDAR
VERSION:2.0
PRODID:-//Plone.org//NONSGML plone.app.event//EN
X-WR-TIMEZONE:US/Central
BEGIN:VEVENT
SUMMARY:Mini-Horse Helpers
DTSTART;TZID=US/Central:20160603T103000
DTEND;TZID=US/Central:20160603T113000
DTSTAMP:20260423T234512Z
UID:f7c7a7c8bcd049a9b15b9616f22a7375@saas_stack_varnish:6080
CONTACT:Thadious Polasek\, Donna Holub\, or Cindy Lytle\, 979 743 3345\, p
 olasek29@gmail.com
CREATED:20160511T213319Z
DESCRIPTION:The Mini-Horse Helpers from La Grange\, Texas will present a p
 rogram.
LAST-MODIFIED:20250403T011232Z
LOCATION:Schulenburg Public Library
URL:https://schulenburg.ploud.net/news-events/lib-cal/mini-horse-helpers
END:VEVENT
BEGIN:VTIMEZONE
TZID:US/Central
X-LIC-LOCATION:US/Central
BEGIN:DAYLIGHT
DTSTART:20160313T030000
TZNAME:CDT
TZOFFSETFROM:-0600
TZOFFSETTO:-0500
END:DAYLIGHT
END:VTIMEZONE
END:VCALENDAR
