BEGIN:VCALENDAR
VERSION:2.0
PRODID:-//Plone.org//NONSGML plone.app.event//EN
X-WR-TIMEZONE:US/Central
BEGIN:VEVENT
SUMMARY:Children's Movie at the Schulenburg Public Library
DTSTART;TZID=US/Central:20160514T093000
DTEND;TZID=US/Central:20160514T110000
DTSTAMP:20260423T235041Z
UID:5a1675b344ce4cd69cfcd4842cd3e487@saas_stack_varnish:6080
CONTACT:Thadious Polasek or Cindy Lytle\, 979 743 3345\, polasek29@gmail.c
 om
CREATED:20160511T202943Z
DESCRIPTION:The Schulenburg Public Library will present a movie Saturday\,
  May 14 from 9:30AM to 11AM.  The movie will be in the meeting room.  Come
  to the library to find out more details about the movie.
LAST-MODIFIED:20250403T011233Z
LOCATION:Schulenburg Public Library
URL:https://schulenburg.ploud.net/news-events/lib-cal/movie-at-the-schulen
 burg-public-library-1
END:VEVENT
BEGIN:VTIMEZONE
TZID:US/Central
X-LIC-LOCATION:US/Central
BEGIN:DAYLIGHT
DTSTART:20160313T030000
TZNAME:CDT
TZOFFSETFROM:-0600
TZOFFSETTO:-0500
END:DAYLIGHT
END:VTIMEZONE
END:VCALENDAR
